BEGIN:VCALENDAR
VERSION:2.0
PRODID:-//Culture Contact - ECPv6.15.20//NONSGML v1.0//EN
CALSCALE:GREGORIAN
METHOD:PUBLISH
X-ORIGINAL-URL:https://ravenholm-consultations.com
X-WR-CALDESC:Events for Culture Contact
REFRESH-INTERVAL;VALUE=DURATION:PT1H
X-Robots-Tag:noindex
X-PUBLISHED-TTL:PT1H
BEGIN:VTIMEZONE
TZID:Europe/Paris
BEGIN:DAYLIGHT
TZOFFSETFROM:+0100
TZOFFSETTO:+0200
TZNAME:CEST
DTSTART:20230326T010000
END:DAYLIGHT
BEGIN:STANDARD
TZOFFSETFROM:+0200
TZOFFSETTO:+0100
TZNAME:CET
DTSTART:20231029T010000
END:STANDARD
BEGIN:DAYLIGHT
TZOFFSETFROM:+0100
TZOFFSETTO:+0200
TZNAME:CEST
DTSTART:20240331T010000
END:DAYLIGHT
BEGIN:STANDARD
TZOFFSETFROM:+0200
TZOFFSETTO:+0100
TZNAME:CET
DTSTART:20241027T010000
END:STANDARD
BEGIN:DAYLIGHT
TZOFFSETFROM:+0100
TZOFFSETTO:+0200
TZNAME:CEST
DTSTART:20250330T010000
END:DAYLIGHT
BEGIN:STANDARD
TZOFFSETFROM:+0200
TZOFFSETTO:+0100
TZNAME:CET
DTSTART:20251026T010000
END:STANDARD
BEGIN:DAYLIGHT
TZOFFSETFROM:+0100
TZOFFSETTO:+0200
TZNAME:CEST
DTSTART:20260329T010000
END:DAYLIGHT
BEGIN:STANDARD
TZOFFSETFROM:+0200
TZOFFSETTO:+0100
TZNAME:CET
DTSTART:20261025T010000
END:STANDARD
END:VTIMEZONE
BEGIN:VTIMEZONE
TZID:Europe/Paris
BEGIN:DAYLIGHT
TZOFFSETFROM:+0100
TZOFFSETTO:+0200
TZNAME:CEST
DTSTART:20220327T010000
END:DAYLIGHT
BEGIN:STANDARD
TZOFFSETFROM:+0200
TZOFFSETTO:+0100
TZNAME:CET
DTSTART:20221030T010000
END:STANDARD
BEGIN:DAYLIGHT
TZOFFSETFROM:+0100
TZOFFSETTO:+0200
TZNAME:CEST
DTSTART:20230326T010000
END:DAYLIGHT
BEGIN:STANDARD
TZOFFSETFROM:+0200
TZOFFSETTO:+0100
TZNAME:CET
DTSTART:20231029T010000
END:STANDARD
BEGIN:DAYLIGHT
TZOFFSETFROM:+0100
TZOFFSETTO:+0200
TZNAME:CEST
DTSTART:20240331T010000
END:DAYLIGHT
BEGIN:STANDARD
TZOFFSETFROM:+0200
TZOFFSETTO:+0100
TZNAME:CET
DTSTART:20241027T010000
END:STANDARD
BEGIN:DAYLIGHT
TZOFFSETFROM:+0100
TZOFFSETTO:+0200
TZNAME:CEST
DTSTART:20250330T010000
END:DAYLIGHT
BEGIN:STANDARD
TZOFFSETFROM:+0200
TZOFFSETTO:+0100
TZNAME:CET
DTSTART:20251026T010000
END:STANDARD
END:VTIMEZONE
BEGIN:VEVENT
DTSTART;TZID=Europe/Paris:20250919T160000
DTEND;TZID=Europe/Paris:20250919T164500
DTSTAMP:20260423T072554
CREATED:20250914T163926Z
LAST-MODIFIED:20250914T164022Z
UID:2531-1758297600-1758300300@ravenholm-consultations.com
SUMMARY:Erazem of Predjama: Resilience\, leadership and failure (mini webinar)
DESCRIPTION:Sometimes\, we think it’s resilience\, but it’s stubbornness. We take solutions for granted\, and they backfire. Join me today for a story about an ancient knight\, an impregnable castle\, and why things didn’t work out as they could have.
URL:https://ravenholm-consultations.com/event/erazem-of-predjama-resilience-leadership-and-failure-mini-webinar/
ATTACH;FMTTYPE=image/jpeg:https://ravenholm-consultations.com/wp-content/uploads/2025/09/predjama_edit2.jpg
END:VEVENT
BEGIN:VEVENT
DTSTART;TZID=Europe/Paris:20240328T180000
DTEND;TZID=Europe/Paris:20240328T190000
DTSTAMP:20260423T072554
CREATED:20240319T182954Z
LAST-MODIFIED:20240319T182955Z
UID:1959-1711648800-1711652400@ravenholm-consultations.com
SUMMARY:Workshop 4 – When women don’t support women: when female to female allyship backfires
DESCRIPTION:Women can be powerful allies to each other – mentoring\, sharing experience or advice\, even working against implicit bias of male counterparts. But women don’t always support each other. This webinar explores why we fail to be allies – and what we can do to counter that. The webinar will be followed by workshops. To really be able to focus properly\, groups up to ten will be available for all who wish to do a group discussion after the main event. \n\n\n\nThis is the fourth of the 9 follow-up workshops available \n\n\n\nWorkshops : 20 Euro per person + tax (groups of 10)
URL:https://ravenholm-consultations.com/event/workshop-4-when-women-dont-support-women-when-female-to-female-allyship-backfires/
CATEGORIES:Workshop
ATTACH;FMTTYPE=image/jpeg:https://ravenholm-consultations.com/wp-content/uploads/2024/02/women-supporting-women-banner.jpg
END:VEVENT
BEGIN:VEVENT
DTSTART;TZID=Europe/Paris:20240327T180000
DTEND;TZID=Europe/Paris:20240327T190000
DTSTAMP:20260423T072554
CREATED:20240319T181436Z
LAST-MODIFIED:20240319T181505Z
UID:1956-1711562400-1711566000@ravenholm-consultations.com
SUMMARY:Workshop 3 - When women don't support women: when female to female allyship backfires
DESCRIPTION:Women can be powerful allies to each other – mentoring\, sharing experience or advice\, even working against implicit bias of male counterparts. But women don’t always support each other. This webinar explores why we fail to be allies – and what we can do to counter that. The webinar will be followed by workshops. To really be able to focus properly\, groups up to ten will be available for all who wish to do a group discussion after the main event. \n\n\n\nThis is the third of the 9 follow-up workshops available \n\n\n\nWorkshops : 20 Euro per person + tax (groups of 10)
URL:https://ravenholm-consultations.com/event/workshop-3-when-women-dont-support-women-when-female-to-female-allyship-backfires/
CATEGORIES:Workshop
ATTACH;FMTTYPE=image/jpeg:https://ravenholm-consultations.com/wp-content/uploads/2024/02/women-supporting-women-banner.jpg
END:VEVENT
BEGIN:VEVENT
DTSTART;TZID=Europe/Paris:20240326T180000
DTEND;TZID=Europe/Paris:20240326T190000
DTSTAMP:20260423T072554
CREATED:20240319T180439Z
LAST-MODIFIED:20240319T180814Z
UID:1953-1711476000-1711479600@ravenholm-consultations.com
SUMMARY:Workshop 2 - When women don't support women: when female to female allyship backfires
DESCRIPTION:Women can be powerful allies to each other – mentoring\, sharing experience or advice\, even working against implicit bias of male counterparts. But women don’t always support each other. This webinar explores why we fail to be allies – and what we can do to counter that. The webinar will be followed by workshops. To really be able to focus properly\, groups up to ten will be available for all who wish to do a group discussion after the main event.  \n\n\n\nThis is the second of the 9 follow-up workshops available \n\n\n\nWorkshops : 20 Euro per person + tax (groups of 10)
URL:https://ravenholm-consultations.com/event/workshop-2-when-women-dont-support-women-when-female-to-female-allyship-backfires/
CATEGORIES:Workshop
ATTACH;FMTTYPE=image/jpeg:https://ravenholm-consultations.com/wp-content/uploads/2024/02/women-supporting-women-banner.jpg
END:VEVENT
BEGIN:VEVENT
DTSTART;TZID=Europe/Paris:20240325T180000
DTEND;TZID=Europe/Paris:20240325T190000
DTSTAMP:20260423T072554
CREATED:20240312T180409Z
LAST-MODIFIED:20240317T174242Z
UID:1845-1711389600-1711393200@ravenholm-consultations.com
SUMMARY:Workshop 1 - When women don't support women: when female to female allyship backfires
DESCRIPTION:Women can be powerful allies to each other – mentoring\, sharing experience or advice\, even working against implicit bias of male counterparts. But women don’t always support each other. This webinar explores why we fail to be allies – and what we can do to counter that. The webinar will be followed by workshops. To really be able to focus properly\, groups up to ten will be available for all who wish to do a group discussion after the main event. \n\n\n\nWorkshops : 20 Euro per person + tax (groups of 10)
URL:https://ravenholm-consultations.com/event/workshop-1-when-women-dont-support-women/
CATEGORIES:Workshop
ATTACH;FMTTYPE=image/jpeg:https://ravenholm-consultations.com/wp-content/uploads/2024/02/women-supporting-women-banner.jpg
END:VEVENT
BEGIN:VEVENT
DTSTART;TZID=Europe/Paris:20240322T180000
DTEND;TZID=Europe/Paris:20240322T190000
DTSTAMP:20260423T072554
CREATED:20240310T182001Z
LAST-MODIFIED:20250413T120955Z
UID:1556-1711130400-1711134000@ravenholm-consultations.com
SUMMARY:When women don't support women: when female to female allyship backfires
DESCRIPTION:Women can be powerful allies to each other – mentoring\, sharing experience or advice\, even working against implicit bias of male counterparts. But women don’t always support each other. This webinar explores why we fail to be allies – and what we can do to counter that.\n\nThe webinar will be followed by workshops. To really be able to focus properly\, groups up to ten will be available for all who wish to do a group discussion after the main event. Individual workshops are available. For anyone who wishes to engage with their team\, single business/team workshops are available with up to 20 participants allowed per group.\n\nPrice : Webinar : Free of charge\n\nWorkshops : 20 Euro per person + tax (groups of 10)\n\n40 Euro per person + tax (individual workshop) – per request; signup possible up to 14 days after the webinar\n\n60 Euro per group + tax (per individual team\, up to 20 participants allowed) – per request; signup possible up to 14 days after the webinar\n\n\n\nPlease note that you will need to register to attend the webinar and that the places are limited. The registration link is just below.
URL:https://ravenholm-consultations.com/event/when-women-dont-support-women-when-female-to-female-allyship-backfires/
ATTACH;FMTTYPE=image/jpeg:https://ravenholm-consultations.com/wp-content/uploads/2024/02/women-supporting-women-banner.jpg
END:VEVENT
BEGIN:VEVENT
DTSTART;TZID=Europe/Paris:20240308T080000
DTEND;TZID=Europe/Paris:20240308T170000
DTSTAMP:20260423T072554
CREATED:20240307T215053Z
LAST-MODIFIED:20240307T215316Z
UID:1616-1709884800-1709917200@ravenholm-consultations.com
SUMMARY:When clients do you wrong : discussing malpractices and crime with clients as perpetrators
DESCRIPTION:Sometimes\, clients do us wrong. And the problem is that often\, when our career or income depends on them\, we are less likely to spot the red flags and give them a wide berth. This talk discusses client to provider harms\, what we can do about them and why we fall victims to them in the first place. \n  \nTime and date : March 8th\, online\, 4 30 pm Paris time
URL:https://ravenholm-consultations.com/event/when-clients-do-you-wrong-discussing-malpractices-and-crime-with-clients-as-perpetrators/
END:VEVENT
BEGIN:VEVENT
DTSTART;TZID=Europe/Paris:20231115T140000
DTEND;TZID=Europe/Paris:20231115T150000
DTSTAMP:20260423T072554
CREATED:20231029T155542Z
LAST-MODIFIED:20231029T155542Z
UID:1472-1700056800-1700060400@ravenholm-consultations.com
SUMMARY:CHNT28 Round Table - Reimagining Cultural Heritage: The Role Of Extremist Ideology And Its Intersection With Technology
DESCRIPTION:Reimagining Cultural Heritage: The Role Of Extremist Ideology And Its Intersection With Technology (Download)\nHelidth Ravenholm | France \n\nContesting heritage: when does heritage become reimagined or contested? – Helidth Ravenholm (Download)\nLoss of Identity and Changing Meanings – Intangible Heritage and Extremist groups – Carole Reid (Download)
URL:https://ravenholm-consultations.com/event/chnt28-round-table-reimagining-cultural-heritage-the-role-of-extremist-ideology-and-its-intersection-with-technology/
CATEGORIES:Conferences
END:VEVENT
END:VCALENDAR